BEGIN:VCALENDAR
VERSION:2.0
PRODID:-//Gemeinde Sonnefeld - ECPv6.15.20//NONSGML v1.0//EN
CALSCALE:GREGORIAN
METHOD:PUBLISH
X-WR-CALNAME:Gemeinde Sonnefeld
X-ORIGINAL-URL:https://sonnefeld.de
X-WR-CALDESC:Veranstaltungen für Gemeinde Sonnefeld
REFRESH-INTERVAL;VALUE=DURATION:PT1H
X-Robots-Tag:noindex
X-PUBLISHED-TTL:PT1H
BEGIN:VTIMEZONE
TZID:Europe/Berlin
BEGIN:DAYLIGHT
TZOFFSETFROM:+0100
TZOFFSETTO:+0200
TZNAME:CEST
DTSTART:20250330T010000
END:DAYLIGHT
BEGIN:STANDARD
TZOFFSETFROM:+0200
TZOFFSETTO:+0100
TZNAME:CET
DTSTART:20251026T010000
END:STANDARD
BEGIN:DAYLIGHT
TZOFFSETFROM:+0100
TZOFFSETTO:+0200
TZNAME:CEST
DTSTART:20260329T010000
END:DAYLIGHT
BEGIN:STANDARD
TZOFFSETFROM:+0200
TZOFFSETTO:+0100
TZNAME:CET
DTSTART:20261025T010000
END:STANDARD
BEGIN:DAYLIGHT
TZOFFSETFROM:+0100
TZOFFSETTO:+0200
TZNAME:CEST
DTSTART:20270328T010000
END:DAYLIGHT
BEGIN:STANDARD
TZOFFSETFROM:+0200
TZOFFSETTO:+0100
TZNAME:CET
DTSTART:20271031T010000
END:STANDARD
END:VTIMEZONE
BEGIN:VEVENT
DTSTART;TZID=Europe/Berlin:20260424T200000
DTEND;TZID=Europe/Berlin:20260424T200000
DTSTAMP:20260424T154317
CREATED:20260312T105205Z
LAST-MODIFIED:20260419T133420Z
UID:16728-1777060800-1777060800@sonnefeld.de
SUMMARY:Karaoke-Party in der Schwemm
DESCRIPTION:
URL:https://sonnefeld.de/event/karaoke-party-in-der-schwemm/
LOCATION:Schützenhaus Sonnefeld\, Wiesenstr. 5\, Sonnefeld\, Bayern\, 96242\, Germany
ATTACH;FMTTYPE=image/png:https://sonnefeld.de/wp-content/uploads/Screenshot_20260409-102359.png
END:VEVENT
BEGIN:VEVENT
DTSTART;TZID=Europe/Berlin:20260425T000000
DTEND;TZID=Europe/Berlin:20260425T000000
DTSTAMP:20260424T154317
CREATED:20260108T095510Z
LAST-MODIFIED:20260108T115823Z
UID:15744-1777075200-1777075200@sonnefeld.de
SUMMARY:Bezirksfinale: Kegel-Klubmeisterschaft U14/U19\, TTC-Freiweg Gestungshausen
DESCRIPTION:
URL:https://sonnefeld.de/event/bezirksfinale-kegel-klubmeisterschaft-u14-u19/
END:VEVENT
BEGIN:VEVENT
DTSTART;VALUE=DATE:20260425
DTEND;VALUE=DATE:20260426
DTSTAMP:20260424T154317
CREATED:20260213T140443Z
LAST-MODIFIED:20260213T140443Z
UID:16572-1777075200-1777161599@sonnefeld.de
SUMMARY:Liederabend Gesangverein Gestungshausen
DESCRIPTION:﻿
URL:https://sonnefeld.de/event/liederabend-gesangverein-gestungshausen-2/
END:VEVENT
BEGIN:VEVENT
DTSTART;VALUE=DATE:20260426
DTEND;VALUE=DATE:20260427
DTSTAMP:20260424T154317
CREATED:20260108T095610Z
LAST-MODIFIED:20260419T133518Z
UID:15765-1777161600-1777247999@sonnefeld.de
SUMMARY:Flohmarkt in den Höfen\, Dorfgemeinschaft Hassenberg – abgesagt
DESCRIPTION:
URL:https://sonnefeld.de/event/flohmarkt-in-den-hoefen/
END:VEVENT
BEGIN:VEVENT
DTSTART;TZID=Europe/Berlin:20260427T000000
DTEND;TZID=Europe/Berlin:20260427T000000
DTSTAMP:20260424T154317
CREATED:20260108T095510Z
LAST-MODIFIED:20260108T095510Z
UID:15745-1777248000-1777248000@sonnefeld.de
SUMMARY:Clubabend AMC Hohe Aßlitz
DESCRIPTION:
URL:https://sonnefeld.de/event/clubabend-amc-hohe-asslitz-46/
END:VEVENT
BEGIN:VEVENT
DTSTART;TZID=Europe/Berlin:20260427T000000
DTEND;TZID=Europe/Berlin:20260427T000000
DTSTAMP:20260424T154317
CREATED:20260108T095510Z
LAST-MODIFIED:20260108T095510Z
UID:15746-1777248000-1777248000@sonnefeld.de
SUMMARY:Vortragsabend Leseverein Sonnefeld
DESCRIPTION:
URL:https://sonnefeld.de/event/vortragsabend-leseverein-sonnefeld-80/
END:VEVENT
BEGIN:VEVENT
DTSTART;TZID=Europe/Berlin:20260428T000000
DTEND;TZID=Europe/Berlin:20260428T000000
DTSTAMP:20260424T154317
CREATED:20260108T095525Z
LAST-MODIFIED:20260108T120953Z
UID:15747-1777334400-1777334400@sonnefeld.de
SUMMARY:Tag des Baumes\, OGV Gestungshausen
DESCRIPTION:
URL:https://sonnefeld.de/event/tag-des-baumes-2/
END:VEVENT
BEGIN:VEVENT
DTSTART;TZID=Europe/Berlin:20260430T180000
DTEND;TZID=Europe/Berlin:20260430T180000
DTSTAMP:20260424T154317
CREATED:20260108T095525Z
LAST-MODIFIED:20260421T080452Z
UID:15748-1777572000-1777572000@sonnefeld.de
SUMMARY:Maibaumaufstellung Feuerwehrverein Hassenberg
DESCRIPTION:
URL:https://sonnefeld.de/event/maibaumaufstellung-feuerwehrverein-hassenberg/
ATTACH;FMTTYPE=image/jpeg:https://sonnefeld.de/wp-content/uploads/3350e18f-23db-4a42-bfab-057906aa0002.jpg
END:VEVENT
BEGIN:VEVENT
DTSTART;TZID=Europe/Berlin:20260430T180000
DTEND;TZID=Europe/Berlin:20260430T180000
DTSTAMP:20260424T154317
CREATED:20260414T073137Z
LAST-MODIFIED:20260414T074331Z
UID:16925-1777572000-1777572000@sonnefeld.de
SUMMARY:Maibaum aufstellen Bieberbach
DESCRIPTION:  \nMaibaum aufstellen 30\,04 um 18.00 Uhr \nMaibaumfest. 01.05 ab 10.00 Uhr
URL:https://sonnefeld.de/event/maibaumfest-bieberbach/
ATTACH;FMTTYPE=image/jpeg:https://sonnefeld.de/wp-content/uploads/1000108939.jpg
END:VEVENT
BEGIN:VEVENT
DTSTART;TZID=Europe/Berlin:20260430T210000
DTEND;TZID=Europe/Berlin:20260430T210000
DTSTAMP:20260424T154317
CREATED:20260409T083914Z
LAST-MODIFIED:20260409T084718Z
UID:16895-1777582800-1777582800@sonnefeld.de
SUMMARY:Tanz in den Mai
DESCRIPTION:Der Tanz in den Mai in der Kalthalle ist längst ein Muss für alle Feierfreudigen! 🥳 Auch in diesem Jahr erwartet euch ein unvergesslicher Abend mit bester Stimmung. \nHighlights: \n\n🎶 Musik vom „Gute-Laune-Express“ von Nico & Tim Guthseel und DJ Fabi\n🍹 Neues Getränkeangebot: Sarti Sprizz\, Aperol Sprizz\, Tropical Sprizz und viele weitere\n🍻 Happy Hour für Frühankommende\n\nWichtige Infos: \n\nOrt: Kalthalle Sonnefeld\nEinlass: ab 21:00 Uhr\nEintritt: 8 EUR\nAlter: ab 16 Jahren mit MuttizettelMuttizettel zum Download\n\nKommt vorbei\, feiert mit uns bis zum Frühschoppen und erlebt die Party\, die jedes Jahr für volle Hallen sorgt!
URL:https://sonnefeld.de/event/tanz-in-den-mai-2/
LOCATION:Domäne Sonnefeld\, Martin-Luther-Straße 6\, Sonnefeld\, 96242
ATTACH;FMTTYPE=image/jpeg:https://sonnefeld.de/wp-content/uploads/659790703_18173124757404225_58502624325167944_n.jpg
END:VEVENT
BEGIN:VEVENT
DTSTART;TZID=Europe/Berlin:20260501T100000
DTEND;TZID=Europe/Berlin:20260501T100000
DTSTAMP:20260424T154317
CREATED:20260414T081649Z
LAST-MODIFIED:20260419T134133Z
UID:16937-1777629600-1777629600@sonnefeld.de
SUMMARY:Maibaumfest Sonnefeld
DESCRIPTION:Maibaumfest des Feuerwehrverein Sonnefeld
URL:https://sonnefeld.de/event/maibaumfest-sonnefeld/
LOCATION:Feuerwehrhaus Sonnefeld\, Berliner Straße 2\, Sonnefeld\, Bayern\, 96242\, Germany
ATTACH;FMTTYPE=image/jpeg:https://sonnefeld.de/wp-content/uploads/673947859_1397516489080631_3322435686781770283_n.jpg
END:VEVENT
BEGIN:VEVENT
DTSTART;TZID=Europe/Berlin:20260501T100000
DTEND;TZID=Europe/Berlin:20260501T100000
DTSTAMP:20260424T154317
CREATED:20260414T074428Z
LAST-MODIFIED:20260414T082339Z
UID:16930-1777629600-1777629600@sonnefeld.de
SUMMARY:Maibaumfest Bieberbach
DESCRIPTION:Maibaum aufstellen 30\,04 um 18.00 Uhr \nMaibaumfest. 01.05 ab 10.00 Uhr
URL:https://sonnefeld.de/event/maibaumfest-bieberbach-2/
ATTACH;FMTTYPE=image/jpeg:https://sonnefeld.de/wp-content/uploads/1000108939.jpg
END:VEVENT
BEGIN:VEVENT
DTSTART;TZID=Europe/Berlin:20260501T110000
DTEND;TZID=Europe/Berlin:20260501T110000
DTSTAMP:20260424T154317
CREATED:20260108T095525Z
LAST-MODIFIED:20260421T083153Z
UID:15749-1777633200-1777633200@sonnefeld.de
SUMMARY:Biergarteneröffnung Feuerwehrverein Wörlsdorf
DESCRIPTION:Feuerwehrheim Wörlsdorf \n(Am Feuerwehrheim 6\, 96242 Wörlsdorf) \n  \nBiergarteneröffnung am Freitag\, 01. Mai \n  \nab 11.00 Uhr: Weißwurstfrühstück sowie weitere (Grill-)Spezialitäten; \nab 13.00 Uhr: Kaffee & Kuchen \n  \nIm Ausschank: das beliebte Sortiment der Gampertbräu … des Bier bei dem die Würze stimmt. \n  \nAuf zahlreichen Besuch freut sich die FFW Wörlsdorf! \n 
URL:https://sonnefeld.de/event/biergarteneroeffnung-feuerwehrverein-woerlsdorf/
LOCATION:Feuerwehrheim Wörlsdorf\, Am Feuerwehrheim 6\, Wörlsdorf\, Bayern\, 96242\, Germany
ATTACH;FMTTYPE=image/jpeg:https://sonnefeld.de/wp-content/uploads/Screenshot_20260421_101916_WhatsApp.jpg
END:VEVENT
BEGIN:VEVENT
DTSTART;VALUE=DATE:20260502
DTEND;VALUE=DATE:20260503
DTSTAMP:20260424T154317
CREATED:20260108T095525Z
LAST-MODIFIED:20260108T121045Z
UID:15750-1777680000-1777766399@sonnefeld.de
SUMMARY:Helferfest\, TTC-Freiweg Gestungshausen
DESCRIPTION:
URL:https://sonnefeld.de/event/helferfest/
END:VEVENT
BEGIN:VEVENT
DTSTART;TZID=Europe/Berlin:20260503T090000
DTEND;TZID=Europe/Berlin:20260503T160000
DTSTAMP:20260424T154317
CREATED:20260414T074534Z
LAST-MODIFIED:20260414T081001Z
UID:16933-1777798800-1777824000@sonnefeld.de
SUMMARY:Dorfflohmarkt Neuses am Brand
DESCRIPTION:
URL:https://sonnefeld.de/event/dorfflohmarkt-neuses-am-brand-2/
ATTACH;FMTTYPE=image/jpeg:https://sonnefeld.de/wp-content/uploads/669834929_26718736831091810_2973830964156765603_n.jpg
END:VEVENT
BEGIN:VEVENT
DTSTART;TZID=Europe/Berlin:20260503T100000
DTEND;TZID=Europe/Berlin:20260503T100000
DTSTAMP:20260424T154317
CREATED:20260413T164315Z
LAST-MODIFIED:20260414T082725Z
UID:16915-1777802400-1777802400@sonnefeld.de
SUMMARY:Jubelkonfirmation in der Schlosskirche Hassenberg
DESCRIPTION:
URL:https://sonnefeld.de/event/jubelkonfirmation-in-der-schlosskirche-hassenberg/
END:VEVENT
BEGIN:VEVENT
DTSTART;TZID=Europe/Berlin:20260504T000000
DTEND;TZID=Europe/Berlin:20260504T000000
DTSTAMP:20260424T154317
CREATED:20260108T095525Z
LAST-MODIFIED:20260108T095525Z
UID:15751-1777852800-1777852800@sonnefeld.de
SUMMARY:Monatsversammlung KTZV Gestungshausen
DESCRIPTION:
URL:https://sonnefeld.de/event/monatsversammlung-ktzv-gestungshausen-14/
END:VEVENT
BEGIN:VEVENT
DTSTART;TZID=Europe/Berlin:20260504T000000
DTEND;TZID=Europe/Berlin:20260504T000000
DTSTAMP:20260424T154317
CREATED:20260108T095540Z
LAST-MODIFIED:20260108T095540Z
UID:15752-1777852800-1777852800@sonnefeld.de
SUMMARY:Vortragsabend Leseverein Sonnefeld
DESCRIPTION:
URL:https://sonnefeld.de/event/vortragsabend-leseverein-sonnefeld-81/
END:VEVENT
BEGIN:VEVENT
DTSTART;TZID=Europe/Berlin:20260505T000000
DTEND;TZID=Europe/Berlin:20260505T000000
DTSTAMP:20260424T154317
CREATED:20260108T095540Z
LAST-MODIFIED:20260108T095540Z
UID:15753-1777939200-1777939200@sonnefeld.de
SUMMARY:Info Abend Reservisten/Landwehrverein Hassenberg
DESCRIPTION:
URL:https://sonnefeld.de/event/info-abend-reservisten-landwehrverein-hassenberg-4/
END:VEVENT
BEGIN:VEVENT
DTSTART;TZID=Europe/Berlin:20260508T000000
DTEND;TZID=Europe/Berlin:20260508T000000
DTSTAMP:20260424T154317
CREATED:20260108T095540Z
LAST-MODIFIED:20260108T095540Z
UID:15754-1778198400-1778198400@sonnefeld.de
SUMMARY:Jedermannschießen Schützenverein Hassenberg
DESCRIPTION:
URL:https://sonnefeld.de/event/jedermannschiessen-schuetzenverein-hassenberg/
END:VEVENT
BEGIN:VEVENT
DTSTART;TZID=Europe/Berlin:20260508T000000
DTEND;TZID=Europe/Berlin:20260510T000000
DTSTAMP:20260424T154317
CREATED:20260108T095541Z
LAST-MODIFIED:20260108T121153Z
UID:15755-1778198400-1778371200@sonnefeld.de
SUMMARY:Saison-Abschlussfahrt FCN Fanclub\, Hassenberg
DESCRIPTION:
URL:https://sonnefeld.de/event/saison-abschlussfahrt-fcn-fanclub/
END:VEVENT
BEGIN:VEVENT
DTSTART;TZID=Europe/Berlin:20260509T000000
DTEND;TZID=Europe/Berlin:20260509T000000
DTSTAMP:20260424T154317
CREATED:20260108T095541Z
LAST-MODIFIED:20260108T095541Z
UID:15756-1778284800-1778284800@sonnefeld.de
SUMMARY:Mau-Mau-Turnier Feuerwehrverein Wörlsdorf
DESCRIPTION:
URL:https://sonnefeld.de/event/mau-mau-turnier-feuerwehrverein-woerlsdorf/
END:VEVENT
BEGIN:VEVENT
DTSTART;TZID=Europe/Berlin:20260509T000000
DTEND;TZID=Europe/Berlin:20260509T000000
DTSTAMP:20260424T154317
CREATED:20260108T095555Z
LAST-MODIFIED:20260108T095555Z
UID:15757-1778284800-1778284800@sonnefeld.de
SUMMARY:Liederabend Gesangverein Gestungshausen
DESCRIPTION:
URL:https://sonnefeld.de/event/liederabend-gesangverein-gestungshausen/
END:VEVENT
BEGIN:VEVENT
DTSTART;VALUE=DATE:20260509
DTEND;VALUE=DATE:20260510
DTSTAMP:20260424T154317
CREATED:20260108T095235Z
LAST-MODIFIED:20260331T181159Z
UID:15736-1778284800-1778371199@sonnefeld.de
SUMMARY:Jahreshauptversammlung Marienverein Hassenberg/Wörlsdorf
DESCRIPTION:
URL:https://sonnefeld.de/event/jahreshauptversammlung-marienverein-hassenberg-woerlsdorf-3/
END:VEVENT
BEGIN:VEVENT
DTSTART;VALUE=DATE:20260509
DTEND;VALUE=DATE:20260510
DTSTAMP:20260424T154317
CREATED:20260122T102555Z
LAST-MODIFIED:20260122T103457Z
UID:16264-1778284800-1778371199@sonnefeld.de
SUMMARY:Damenfeier OGV Neuses am Brand
DESCRIPTION:
URL:https://sonnefeld.de/event/damenfeier-ogv-neuses-am-brand/
END:VEVENT
BEGIN:VEVENT
DTSTART;VALUE=DATE:20260509
DTEND;VALUE=DATE:20260510
DTSTAMP:20260424T154317
CREATED:20260126T112913Z
LAST-MODIFIED:20260126T122051Z
UID:16389-1778284800-1778371199@sonnefeld.de
SUMMARY:Kinderfest evang. Kindergarten Klosterknirpse
DESCRIPTION:
URL:https://sonnefeld.de/event/kinderfest-evang-kindergarten-klosterknirpse/
END:VEVENT
BEGIN:VEVENT
DTSTART;TZID=Europe/Berlin:20260510T000000
DTEND;TZID=Europe/Berlin:20260510T000000
DTSTAMP:20260424T154317
CREATED:20260108T095555Z
LAST-MODIFIED:20260108T121224Z
UID:15758-1778371200-1778371200@sonnefeld.de
SUMMARY:Jubelkonfirmation (silberne u. goldene)\, Kirchgemeinde Gestungshausen
DESCRIPTION:
URL:https://sonnefeld.de/event/jubelkonfirmation-silberne-u-goldene/
END:VEVENT
BEGIN:VEVENT
DTSTART;TZID=Europe/Berlin:20260512T000000
DTEND;TZID=Europe/Berlin:20260512T000000
DTSTAMP:20260424T154317
CREATED:20260108T095556Z
LAST-MODIFIED:20260108T095556Z
UID:15759-1778544000-1778544000@sonnefeld.de
SUMMARY:Monatsversammlung GZV Hassenberg
DESCRIPTION:
URL:https://sonnefeld.de/event/monatsversammlung-gzv-hassenberg-16/
END:VEVENT
BEGIN:VEVENT
DTSTART;TZID=Europe/Berlin:20260512T000000
DTEND;TZID=Europe/Berlin:20260512T000000
DTSTAMP:20260424T154317
CREATED:20260108T095556Z
LAST-MODIFIED:20260108T095556Z
UID:15760-1778544000-1778544000@sonnefeld.de
SUMMARY:Jedermannschießen Schützenverein Hassenberg
DESCRIPTION:
URL:https://sonnefeld.de/event/jedermannschiessen-schuetzenverein-hassenberg-2/
END:VEVENT
BEGIN:VEVENT
DTSTART;TZID=Europe/Berlin:20260513T000000
DTEND;TZID=Europe/Berlin:20260513T000000
DTSTAMP:20260424T154317
CREATED:20260108T095556Z
LAST-MODIFIED:20260108T095556Z
UID:15761-1778630400-1778630400@sonnefeld.de
SUMMARY:Seniorencafé in der Domäne Sonnefeld
DESCRIPTION:
URL:https://sonnefeld.de/event/seniorencafe-in-der-domaene-sonnefeld-4/
END:VEVENT
END:VCALENDAR